BEGIN:VCALENDAR
VERSION:2.0
PRODID:-//PLAPLA//VRChat Event Schedule//JA
CALSCALE:GREGORIAN
METHOD:PUBLISH
BEGIN:VEVENT
UID:1a882ef2-8edb-45b3-8e9d-d224e67340f8@vrc-plapla.com
DTSTAMP:20260425T152207Z
DTSTART:20260310T113000Z
DTEND:20260401T130000Z
SUMMARY:ほぼ毎日ダンス練習とウォームアップのストレッ
 チ
DESCRIPTION:Host: ぽっともダンス部\nURL: https://www.vrc-plapla.com
 /events/1a882ef2-8edb-45b3-8e9d-d224e67340f8\nVRChat: https://vrc.group/P
 OT.2580
LOCATION:VRChat
URL:https://www.vrc-plapla.com/events/1a882ef2-8edb-45b3-8e9d-d224e67340f8
END:VEVENT
END:VCALENDAR