BEGIN:VCALENDAR
VERSION:2.0
PRODID:-//PLAPLA//VRChat Event Schedule//JA
CALSCALE:GREGORIAN
METHOD:PUBLISH
BEGIN:VEVENT
UID:27780e0b-2861-4ca2-a27f-94b3190d9438@vrc-plapla.com
DTSTAMP:20260425T143919Z
DTSTART:20260311T120000Z
DTEND:20260311T133000Z
SUMMARY:neoswing archive
DESCRIPTION:クラブダンスの一種であるneoswingの練習をして
 います\nダンスやったことない人でも音楽に合わせて
 クラブで踊れたら良いなという気持ちがあれば大丈夫
 です\n一緒に体を動かしてみましょう\nHost: kuon0423\nURL: 
 https://www.vrc-plapla.com/events/27780e0b-2861-4ca2-a27f-94b3190d9438
LOCATION:VRChat
URL:https://www.vrc-plapla.com/events/27780e0b-2861-4ca2-a27f-94b3190d9438
END:VEVENT
END:VCALENDAR