BEGIN:VCALENDAR
VERSION:2.0
PRODID:-//PLAPLA//VRChat Event Schedule//JA
CALSCALE:GREGORIAN
METHOD:PUBLISH
BEGIN:VEVENT
UID:40d59c55-4b44-44b3-8d74-ac57ad087992@vrc-plapla.com
DTSTAMP:20260425T144358Z
DTSTART:20260322T130000Z
DTEND:20260322T140000Z
SUMMARY:Public Dance Cypher "Drop-in"
DESCRIPTION:ほぼ毎週日曜22時からGroup Publicで、A-POP(オタク
 ソング)系・ストリート系の2サークル同時開催でやっ
 ているサイファーイベントです。\n\ngroup publicなので参
 加・見学お気軽にどうぞ。 \n\n#DropIn_VRC\nHost: ちとせち
 ゃん\nURL: https://www.vrc-plapla.com/events/40d59c55-4b44-44b3-8d74-ac
 57ad087992
LOCATION:VRChat
URL:https://www.vrc-plapla.com/events/40d59c55-4b44-44b3-8d74-ac57ad087992
END:VEVENT
END:VCALENDAR