BEGIN:VCALENDAR
VERSION:2.0
PRODID:-//PLAPLA//VRChat Event Schedule//JA
CALSCALE:GREGORIAN
METHOD:PUBLISH
BEGIN:VEVENT
UID:557b70cb-fa80-4b84-af81-22c8084f7a2d@vrc-plapla.com
DTSTAMP:20260424T013355Z
DTSTART:20260315T130000Z
DTEND:20260315T140000Z
SUMMARY:Public Dance Cypher "Drop-in"
DESCRIPTION:ほぼ毎週日曜22時からGroup Publicで、A-POP(オタク
 ソング)系・ストリート系の2サークル同時開催でやっ
 ているサイファーイベントです。\n参加・見学お気軽
 に。 \n\n#DropIn_VRC\nHost: ちとせちゃん\nURL: https://www.vrc-pl
 apla.com/events/557b70cb-fa80-4b84-af81-22c8084f7a2d
LOCATION:VRChat
URL:https://www.vrc-plapla.com/events/557b70cb-fa80-4b84-af81-22c8084f7a2d
END:VEVENT
END:VCALENDAR