BEGIN:VCALENDAR
VERSION:2.0
PRODID:-//PLAPLA//VRChat Event Schedule//JA
CALSCALE:GREGORIAN
METHOD:PUBLISH
BEGIN:VEVENT
UID:644424b1-7192-4f23-a92d-0d4dac067c02@vrc-plapla.com
DTSTAMP:20260426T001320Z
DTSTART:20260504T130000Z
DTEND:20260504T160000Z
SUMMARY:PSY-APPLE
DESCRIPTION:「PSY-APPLE」はサイケデリックトランスというジ
 ャンルに特化したDJパーティーです。日本のイベント
 だよ！\n配信にはVRCDNを使用しており、PCとAndroid（Quest
 ）に対応しています。\n\n日本時間で、毎週月曜日の22
 時～25時にイベントを開催しています。\n\n主宰は「yoss
 y222」と「わは～♪」の2名です。お気軽にお声がけど
 うぞ！\n\n過去のアーカイブ動画は、YouTubeで見ること
 ができます。\nhttps://www.youtube.com/＠yossy222\nhttps://www.yout
 ube.com/@wahawahaowata\n\nWebsite\nhttps://psy-apple.club/\nHost: PSY-APP
 LE\nURL: https://www.vrc-plapla.com/events/644424b1-7192-4f23-a92d-0d4dac
 067c02\nVRChat: https://vrchat.com/home/world/wrld_5ab2330c-f507-42a4-9a4
 6-4a0be0745d13/info
LOCATION:VRChat
URL:https://www.vrc-plapla.com/events/644424b1-7192-4f23-a92d-0d4dac067c02
END:VEVENT
END:VCALENDAR