BEGIN:VCALENDAR
VERSION:2.0
PRODID:-//PLAPLA//VRChat Event Schedule//JA
CALSCALE:GREGORIAN
METHOD:PUBLISH
BEGIN:VEVENT
UID:6862ae57-d278-42fd-af96-15725f269043@vrc-plapla.com
DTSTAMP:20260425T151035Z
DTSTART:20260318T120000Z
DTEND:20260318T133000Z
SUMMARY:たろクラス
DESCRIPTION:20:50までにインスタンスOPEN\n21:00-22:30　レッス
 ン\n今回はGirls HIPHOPの予定です！\n詳しくはXの告知ポ
 ストをご覧ください。\nHost: 太郎（VRP Dance Studio）\nURL: 
 https://www.vrc-plapla.com/events/6862ae57-d278-42fd-af96-15725f269043
LOCATION:VRChat
URL:https://www.vrc-plapla.com/events/6862ae57-d278-42fd-af96-15725f269043
END:VEVENT
END:VCALENDAR