BEGIN:VCALENDAR
VERSION:2.0
PRODID:-//PLAPLA//VRChat Event Schedule//JA
CALSCALE:GREGORIAN
METHOD:PUBLISH
BEGIN:VEVENT
UID:72dff627-252f-43e5-9c83-eea4e4ff2807@vrc-plapla.com
DTSTAMP:20260425T165830Z
DTSTART:20260314T043000Z
DTEND:20260314T063000Z
SUMMARY:🚚 groove truck (モバイル対応)
DESCRIPTION:ダンス、ライブ、グラフィティ、DJのウィーク
 リーイベント！\nらにぃ＆おきらくモウモウペアお二
 人のダンスに、昨年末アルバムリリースした破紅蒼磨
 さん、レゲエセレクターのたくちゃんに2回目の登場O
 ・スー氏さん！\nHost: GROOVE.5713\nURL: https://www.vrc-plapla.com
 /events/72dff627-252f-43e5-9c83-eea4e4ff2807
LOCATION:VRChat
URL:https://www.vrc-plapla.com/events/72dff627-252f-43e5-9c83-eea4e4ff2807
END:VEVENT
END:VCALENDAR