BEGIN:VCALENDAR
VERSION:2.0
PRODID:-//PLAPLA//VRChat Event Schedule//JA
CALSCALE:GREGORIAN
METHOD:PUBLISH
BEGIN:VEVENT
UID:878581e0-3fbf-4d8f-97e7-7f6dbd5ba724@vrc-plapla.com
DTSTAMP:20260425T144400Z
DTSTART:20260319T145900Z
DTEND:20260319T200000Z
SUMMARY:All Night Diner #02
DESCRIPTION:3月19日(木) 24～29時頃\n一人で朝までDJする「ALL 
 NIGHT DINER」が帰ってきます！\n今回のDJは、私と同じく 
 Aromerican Diner 出身のるーざーさん！\n\nとはいえいつも
 通りのダイナーです！\n是非飲んだり踊ったり、空い
 てるところでDJしたり(!)しにきてください！\nHost: とか
 げ／Tokage\nURL: https://www.vrc-plapla.com/events/878581e0-3fbf-4d8f-9
 7e7-7f6dbd5ba724\nVRChat: https://vrchat.com/home/world/wrld_cbb67b27-944
 2-45f9-b766-b0ed6d87001c/info
LOCATION:VRChat
URL:https://www.vrc-plapla.com/events/878581e0-3fbf-4d8f-97e7-7f6dbd5ba724
END:VEVENT
END:VCALENDAR