BEGIN:VCALENDAR
VERSION:2.0
PRODID:-//PLAPLA//VRChat Event Schedule//JA
CALSCALE:GREGORIAN
METHOD:PUBLISH
BEGIN:VEVENT
UID:88a341d4-8a0f-4439-95eb-4ea4a7e8640c@vrc-plapla.com
DTSTAMP:20260425T144332Z
DTSTART:20260319T125000Z
DTEND:20260319T135000Z
SUMMARY:アバター：ウェンディ オンリーショーケース 「
 白影-After image-」
DESCRIPTION:3/19 21:50 開場 （参加方法変更となってますので
 ご注意ください）\n出演ダンサー\nLunar (@LunarEclipseVRC)\n
 イトミヤ (@itomiyagudee)\nなー (@unavrc)\nta_6o (@ta_6o)\nさちか
 ぜ (@satikaze1)\nHost: フェザリオ\nURL: https://www.vrc-plapla.com/
 events/88a341d4-8a0f-4439-95eb-4ea4a7e8640c\nVRChat: https://vrchat.com/h
 ome/user/usr_c615d207-bd9c-4073-8e01-98e8254bac6a
LOCATION:VRChat
URL:https://www.vrc-plapla.com/events/88a341d4-8a0f-4439-95eb-4ea4a7e8640c
END:VEVENT
END:VCALENDAR