BEGIN:VCALENDAR
VERSION:2.0
PRODID:-//PLAPLA//VRChat Event Schedule//JA
CALSCALE:GREGORIAN
METHOD:PUBLISH
BEGIN:VEVENT
UID:88c98f14-db20-417d-91c9-23621d0aff4f@vrc-plapla.com
DTSTAMP:20260421T061559Z
DTSTART:20260422T120000Z
DTEND:20260422T140000Z
SUMMARY:【Android 対応】あの頃のTVっ子集合！VISON 第2枠【DJ
  EVENT】
DESCRIPTION:バラエティ\,ドラマ\,アニメ\,CMソング\,その他TV
 で放映された番組の原曲が流れるDJイベントです。\nお
 しゃべりOK、曲に合わせて歌ったり踊ってもOKなイベン
 トです\nあなたが見ていたTV番組の曲が流れるかも！！
 \nHost: Toush\nURL: https://www.vrc-plapla.com/events/88c98f14-db20-417d-
 91c9-23621d0aff4f
LOCATION:VRChat
URL:https://www.vrc-plapla.com/events/88c98f14-db20-417d-91c9-23621d0aff4f
END:VEVENT
END:VCALENDAR