BEGIN:VCALENDAR
VERSION:2.0
PRODID:-//PLAPLA//VRChat Event Schedule//JA
CALSCALE:GREGORIAN
METHOD:PUBLISH
BEGIN:VEVENT
UID:90e4af81-b5a3-4f0c-b474-1b75fe1e42a3@vrc-plapla.com
DTSTAMP:20260424T013707Z
DTSTART:20260314T150000Z
DTEND:20260314T160000Z
SUMMARY:STREET LEVEL presents 揺動
DESCRIPTION:ALL NIGHT DJ PARTY\n～『揺動』～\n\n日時:3/14 24:00(JST
 )~\n会場:P3˸⁄⁄H411\n\n夜からオープンする、ダンサー
 とDJたちの溜まり場—―\n美味しいお酒とグルーヴで、
 朝まで踊り明かそう。\n\nDJ's\n@k_ya1997\n \n@RexRekkusu\n \n@sb
 r_riot\n \n\nフライヤー制作\n@BluemondayCh\n \nロゴ\n@t0wa007\n\
 nハッシュタグ\n#揺動_VRC\nHost: STREET LEVEL\nURL: https://www.vr
 c-plapla.com/events/90e4af81-b5a3-4f0c-b474-1b75fe1e42a3
LOCATION:VRChat
URL:https://www.vrc-plapla.com/events/90e4af81-b5a3-4f0c-b474-1b75fe1e42a3
END:VEVENT
END:VCALENDAR