BEGIN:VCALENDAR
VERSION:2.0
PRODID:-//PLAPLA//VRChat Event Schedule//JA
CALSCALE:GREGORIAN
METHOD:PUBLISH
BEGIN:VEVENT
UID:b78afd7f-4e23-4671-b1ae-ed42edf911e0@vrc-plapla.com
DTSTAMP:20260425T142904Z
DTSTART:20260316T130000Z
DTEND:20260316T160000Z
SUMMARY:PSY-APPLE
DESCRIPTION:「PSY-APPLE」はサイケデリックトランスというジ
 ャンルに特化したDJパーティーです。日本のイベント
 だよ！\n配信にはVRCDNを使用しており、PCとAndroid（Quest
 ）に対応しています。\n\n日本時間で、毎週月曜日の22
 時～25時にイベントを開催しています。\n\n主宰は「yoss
 y222」と「わは～♪」の2名です。お気軽にお声がけど
 うぞ！\n\n過去のアーカイブ動画は、YouTubeで見ること
 ができます。\nhttps://www.youtube.com/＠yossy222\nhttps://www.yout
 ube.com/@wahawahaowata\n\nWebsite\nhttps://psy-apple.club/\nHost: PSY-APP
 LE\nURL: https://www.vrc-plapla.com/events/b78afd7f-4e23-4671-b1ae-ed42ed
 f911e0\nVRChat: https://vrchat.com/home/world/wrld_5ab2330c-f507-42a4-9a4
 6-4a0be0745d13/info
LOCATION:VRChat
URL:https://www.vrc-plapla.com/events/b78afd7f-4e23-4671-b1ae-ed42edf911e0
END:VEVENT
END:VCALENDAR