BEGIN:VCALENDAR
VERSION:2.0
PRODID:-//PLAPLA//VRChat Event Schedule//JA
CALSCALE:GREGORIAN
METHOD:PUBLISH
BEGIN:VEVENT
UID:cb3e929f-63c8-4974-b2c0-1d08252880ed@vrc-plapla.com
DTSTAMP:20260425T143919Z
DTSTART:20260314T125000Z
DTEND:20260314T140000Z
SUMMARY:第5回トリプルONE
DESCRIPTION:シンガーさんを1組招待したダンスショーケー
 スイベント！\n今回も素敵な出演者の皆さまと一緒に
 、最高の時間をお届けします。\n\n3/14の夜は、トリプ
 ルONEでお会いしましょう！\nたくさんのご来場をお待
 ちしています！\nHost: 1suki\nURL: https://www.vrc-plapla.com/event
 s/cb3e929f-63c8-4974-b2c0-1d08252880ed
LOCATION:VRChat
URL:https://www.vrc-plapla.com/events/cb3e929f-63c8-4974-b2c0-1d08252880ed
END:VEVENT
END:VCALENDAR