BEGIN:VCALENDAR
VERSION:2.0
PRODID:-//PLAPLA//VRChat Event Schedule//JA
CALSCALE:GREGORIAN
METHOD:PUBLISH
BEGIN:VEVENT
UID:d27669f5-852d-4985-a839-a00a0cdd9f65@vrc-plapla.com
DTSTAMP:20260422T220319Z
DTSTART:20260424T130000Z
DTEND:20260424T145900Z
SUMMARY:SUB-QUARTET
DESCRIPTION:VRChat のサブカルオールジャンルDJイベント\nア
 ニソン / 音ゲー / ボカロ / Vtuber / etc...\n今回も皆さん
 とインターネットにあふれる音楽を楽しみたいのでぜ
 ひ来てほしいです！\nHost: かんらふ　メンタルおばけ\n
 URL: https://www.vrc-plapla.com/events/d27669f5-852d-4985-a839-a00a0cdd9f
 65
LOCATION:VRChat
URL:https://www.vrc-plapla.com/events/d27669f5-852d-4985-a839-a00a0cdd9f65
END:VEVENT
END:VCALENDAR