BEGIN:VCALENDAR
VERSION:2.0
PRODID:-//PLAPLA//VRChat Event Schedule//JA
CALSCALE:GREGORIAN
METHOD:PUBLISH
BEGIN:VEVENT
UID:d5dba888-1ecc-48f3-8d28-daeaef377775@vrc-plapla.com
DTSTAMP:20260425T144454Z
DTSTART:20260314T120000Z
DTEND:20260314T130000Z
SUMMARY:#黒宮クラス　ホワイトデー回
DESCRIPTION:初心者歓迎のテーマパークダンス入門クラスで
 す。\n\n今回のテーマはホワイトデー！\nテーマパーク
 ダンスならではの、王子様的かっこよさを表現してみ
 よう🏰💙\n\n・青年、少年アバター推奨🫶もちろんそ
 れ以外も大歓迎\n・男性アバターを想定した振付（黒
 宮クラスではちょっとレア！）\n・ホワイトデーのダ
 ンス動画ネタにも✨\nHost: VRP Dance Studio\nURL: https://www.vrc
 -plapla.com/events/d5dba888-1ecc-48f3-8d28-daeaef377775\nVRChat: https://
 vrchat.com/home/world/wrld_a4adce38-3a87-4a7b-8ff7-9c2b6a4f5a04/info
LOCATION:VRChat
URL:https://www.vrc-plapla.com/events/d5dba888-1ecc-48f3-8d28-daeaef377775
END:VEVENT
END:VCALENDAR