BEGIN:VCALENDAR
VERSION:2.0
PRODID:-//PLAPLA//VRChat Event Schedule//JA
CALSCALE:GREGORIAN
METHOD:PUBLISH
BEGIN:VEVENT
UID:d85374fb-fb25-49af-b04a-a60f73a48f93@vrc-plapla.com
DTSTAMP:20260424T015103Z
DTSTART:20260314T130000Z
DTEND:20260314T143000Z
SUMMARY:たみクラス
DESCRIPTION:Host: VRP Dance Studio\nURL: https://www.vrc-plapla.com/events/
 d85374fb-fb25-49af-b04a-a60f73a48f93
LOCATION:VRChat
URL:https://www.vrc-plapla.com/events/d85374fb-fb25-49af-b04a-a60f73a48f93
END:VEVENT
END:VCALENDAR