BEGIN:VCALENDAR
VERSION:2.0
PRODID:-//PLAPLA//VRChat Event Schedule//JA
CALSCALE:GREGORIAN
METHOD:PUBLISH
BEGIN:VEVENT
UID:e2d85251-fc0e-474d-8d0c-a4768ceeae9a@vrc-plapla.com
DTSTAMP:20260425T144536Z
DTSTART:20260329T130000Z
DTEND:20260329T140000Z
SUMMARY:Public Dance Cypher "Drop-in"
DESCRIPTION:ほぼ毎週日曜22時からGroup Publicで、A-POP(オタク
 ソング)系・ストリート系の2サークル同時開催でやっ
 ているサイファーイベントです。\n\ngroup publicなので参
 加・見学お気軽にどうぞ。 \n\n#DropIn_VRC\nHost: ちとせち
 ゃん\nURL: https://www.vrc-plapla.com/events/e2d85251-fc0e-474d-8d0c-a4
 768ceeae9a
LOCATION:VRChat
URL:https://www.vrc-plapla.com/events/e2d85251-fc0e-474d-8d0c-a4768ceeae9a
END:VEVENT
END:VCALENDAR