BEGIN:VCALENDAR
VERSION:2.0
PRODID:-//PLAPLA//VRChat Event Schedule//JA
CALSCALE:GREGORIAN
METHOD:PUBLISH
BEGIN:VEVENT
UID:eb3eab3a-f869-4390-90a1-89f0e44a2cff@vrc-plapla.com
DTSTAMP:20260425T165804Z
DTSTART:20260412T130000Z
DTEND:20260412T140000Z
SUMMARY:Public Dance Cypher "Drop-in"
DESCRIPTION:ほぼ毎週日曜22時からGroup Publicで、A-POP(オタク
 ソング)系・ストリート系の2サークル同時開催でやっ
 ているサイファーイベントです。\n\ngroup publicなので参
 加・見学お気軽にどうぞ。 \n\n#DropIn_VRC\nHost: ちとせち
 ゃん\nURL: https://www.vrc-plapla.com/events/eb3eab3a-f869-4390-90a1-89
 f0e44a2cff
LOCATION:VRChat
URL:https://www.vrc-plapla.com/events/eb3eab3a-f869-4390-90a1-89f0e44a2cff
END:VEVENT
END:VCALENDAR