BEGIN:VCALENDAR
VERSION:2.0
PRODID:-//PLAPLA//VRChat Event Schedule//JA
CALSCALE:GREGORIAN
METHOD:PUBLISH
BEGIN:VEVENT
UID:f1fbfe10-5de2-4116-9e29-d27afbb94168@vrc-plapla.com
DTSTAMP:20260425T143428Z
DTSTART:20260310T130000Z
DTEND:20260310T140000Z
SUMMARY:YORNOTES
DESCRIPTION:不定期開催DJインスタンス\nYORNOTES（ヨルノオト
 ）\n\nMusic. A place. Your night.\nHost: Hirokin\nURL: https://www.vrc-p
 lapla.com/events/f1fbfe10-5de2-4116-9e29-d27afbb94168
LOCATION:VRChat
URL:https://www.vrc-plapla.com/events/f1fbfe10-5de2-4116-9e29-d27afbb94168
END:VEVENT
END:VCALENDAR