BEGIN:VCALENDAR
VERSION:2.0
PRODID:-//PLAPLA//VRChat Event Schedule//JA
CALSCALE:GREGORIAN
METHOD:PUBLISH
BEGIN:VEVENT
UID:ffc1fc74-2562-49d5-b310-671278dffca0@vrc-plapla.com
DTSTAMP:20260424T230243Z
DTSTART:20260315T125000Z
DTEND:20260315T135000Z
SUMMARY:第17回たいすて-Tiny step-
DESCRIPTION:月一開催 エントリー型ダンスショーケースイ
 ベントたいすて\n演者の皆様も観客の皆様もお待ちし
 ております！\n当日は少数ですが飛び込みエントリー
 枠も設けておりますので、急に踊りたくなったという
 方も大歓迎！\nHost: なー［na-］\nURL: https://www.vrc-plapla.co
 m/events/ffc1fc74-2562-49d5-b310-671278dffca0
LOCATION:VRChat
URL:https://www.vrc-plapla.com/events/ffc1fc74-2562-49d5-b310-671278dffca0
END:VEVENT
END:VCALENDAR